BEGIN:VCALENDAR
VERSION:2.0
PRODID:-//wp-events-plugin.com//7.2.3.1//EN
BEGIN:VEVENT
UID:547@thespeedmingle.com
DTSTART;TZID=America/New_York:20260616T184500
DTEND;TZID=America/New_York:20260616T210000
DTSTAMP:20260420T204354Z
URL:https://thespeedmingle.com/events/the-psl-pulse-speed-mingle/
SUMMARY:The PSL Pulse Speed Mingle
DESCRIPTION:Tired of the endless swiping\, the digital dating fatigue\, awk
 ward non-starters\, and the routine Tuesday nights that lead nowhere? It's
  time to step away from the screen\, silence the notifications\, and join 
 us for an evening dedicated to genuine\, elevated connection in a sophisti
 cated\, real-world setting.
ATTACH;FMTTYPE=image/jpeg:https://thespeedmingle.com/wp-content/uploads/20
 26/04/PSL-Pulse.png
CATEGORIES:Speed Mingle Happenings™
LOCATION:Port St. Lucie\, FL Speed Mingle | IRL Events & One:One Matchmakin
 g\, Port St. Lucie\, FL Speed Mingle Events\, Port St. Lucie\, Florida\, U
 nited States
GEO:27.311218;-80.402062
X-APPLE-STRUCTURED-LOCATION;VALUE=URI;X-ADDRESS=Port St. Lucie\, FL Speed M
 ingle Events\, Port St. Lucie\, Florida\, United States;X-APPLE-RADIUS=100
 ;X-TITLE=Port St. Lucie\, FL Speed Mingle | IRL Events & One:One Matchmaki
 ng:geo:27.311218,-80.402062
END:VEVENT
BEGIN:VTIMEZONE
TZID:America/New_York
X-LIC-LOCATION:America/New_York
BEGIN:DAYLIGHT
DTSTART:20260308T030000
TZOFFSETFROM:-0500
TZOFFSETTO:-0400
TZNAME:EDT
END:DAYLIGHT
END:VTIMEZONE
END:VCALENDAR