BEGIN:VCALENDAR
VERSION:2.0
PRODID:-//wp-events-plugin.com//7.2.3.1//EN
BEGIN:VEVENT
UID:560@thespeedmingle.com
DTSTART;TZID=America/Chicago:20260513T184500
DTEND;TZID=America/Chicago:20260513T210000
DTSTAMP:20260421T192853Z
URL:https://thespeedmingle.com/events/the-lucky-13-speed-mingle/
SUMMARY:The Lucky 13 Speed Mingle
DESCRIPTION:Discard conventional apprehension—in Huntsville\, we engineer
  opportunity\, commencing with a focused\, mid-week networking engagement.
 Whether you represent a recent professional relocation seeking community i
 ntegration\, a seasoned executive pursuing novel business affiliations\, o
 r an individual desiring an energizing departure from the standard Wednesd
 ay routine\, the Lucky 13 Speed Mingle serves as the confluence of ambitio
 n and connection. Our objective is to counteract the mid-week stagnation a
 nd transform Wednesday\, May 13th\, into the month's most strategically ad
 vantageous and dynamic evening.
ATTACH;FMTTYPE=image/jpeg:https://thespeedmingle.com/wp-content/uploads/20
 26/04/Luckey13HUntsville.png
CATEGORIES:Speed Mingle Happenings™
LOCATION:Huntsville\, AL Speed Mingle | IRL Events & One:One Matchmaking\, 
 7914 Memorial Pkwy SW Suite B2\, Huntsville\, Alabama\, United States
GEO:34.661236;-86.571356
X-APPLE-STRUCTURED-LOCATION;VALUE=URI;X-ADDRESS=7914 Memorial Pkwy SW Suite
  B2\, Huntsville\, Alabama\, United States;X-APPLE-RADIUS=100;X-TITLE=Hunt
 sville\, AL Speed Mingle | IRL Events & One:One Matchmaking:geo:34.661236,
 -86.571356
END:VEVENT
BEGIN:VTIMEZONE
TZID:America/Chicago
X-LIC-LOCATION:America/Chicago
BEGIN:DAYLIGHT
DTSTART:20260308T030000
TZOFFSETFROM:-0600
TZOFFSETTO:-0500
TZNAME:CDT
END:DAYLIGHT
END:VTIMEZONE
END:VCALENDAR