BEGIN:VCALENDAR
VERSION:2.0
PRODID:-//wp-events-plugin.com//7.2.3.1//EN
BEGIN:VEVENT
UID:561@thespeedmingle.com
DTSTART;TZID=America/New_York:20260617T184500
DTEND;TZID=America/New_York:20260617T210000
DTSTAMP:20260422T200509Z
URL:https://thespeedmingle.com/events/solstice-spirits-speed-mingle/
SUMMARY:Solstice Spirits & Speed Mingle
DESCRIPTION:As the sun reaches its annual peak\, heralding the Summer Solst
 ice\, we cordially invite you to an evening dedicated to sophisticated net
 working and meaningful engagement. This curated event will take place at C
 ulture.Shift Elixery\, Stuart's preeminent establishment for elevated bota
 nical preparations and authentic community building.
ATTACH;FMTTYPE=image/jpeg:https://thespeedmingle.com/wp-content/uploads/20
 26/04/Solstice-Spirits-Speed-Mingle.png
CATEGORIES:Speed Mingle Happenings™
LOCATION:Culture.Shift Elixery\, 2196 SE Ocean Blvd\, Stuart\, Florida\, 34
 996\, United States
GEO:27.196178;-80.223071
X-APPLE-STRUCTURED-LOCATION;VALUE=URI;X-ADDRESS=2196 SE Ocean Blvd\, Stuart
 \, Florida\, 34996\, United States;X-APPLE-RADIUS=100;X-TITLE=Culture.Shif
 t Elixery:geo:27.196178,-80.223071
END:VEVENT
BEGIN:VTIMEZONE
TZID:America/New_York
X-LIC-LOCATION:America/New_York
BEGIN:DAYLIGHT
DTSTART:20260308T030000
TZOFFSETFROM:-0500
TZOFFSETTO:-0400
TZNAME:EDT
END:DAYLIGHT
END:VTIMEZONE
END:VCALENDAR