BEGIN:VCALENDAR
VERSION:2.0
PRODID:-//wp-events-plugin.com//7.2.3.1//EN
BEGIN:VEVENT
UID:546@thespeedmingle.com
DTSTART;TZID=America/New_York:20260501T184500
DTEND;TZID=America/New_York:20260501T210000
DTSTAMP:20260419T165004Z
URL:https://thespeedmingle.com/events/sarasota-fl-speed-mingle-event/
SUMMARY:Sarasota\, FL Speed Mingle Event
DESCRIPTION:The pervasive fatigue associated with digital dating and networ
 king platforms necessitates a shift toward authentic\, face-to-face intera
 ction. The continuous cycle of swiping\, matching\, messaging\, and subseq
 uent disengagement is being addressed with the introduction of Speed Mingl
 e\, a sophisticated and technologically-enhanced social experience launchi
 ng soon in Sarasota\, FL.
ATTACH;FMTTYPE=image/jpeg:https://thespeedmingle.com/wp-content/uploads/20
 26/04/Sarasota-FL-Speed-MIngle-Coming-Soon.jpeg
CATEGORIES:Speed Mingle B2B™,Speed Mingle Happenings™,Speed Mingle
 Neighbors™,Speed Mingle Social™
LOCATION:Sarasota\, FL Speed Mingle | IRL Events & One:One Matchmaking\, Sa
 rasota\, FL Speed Mingle Events\, Sarasota\, Florida\, United States
GEO:27.336465;-82.531012
X-APPLE-STRUCTURED-LOCATION;VALUE=URI;X-ADDRESS=Sarasota\, FL Speed Mingle 
 Events\, Sarasota\, Florida\, United States;X-APPLE-RADIUS=100;X-TITLE=Sar
 asota\, FL Speed Mingle | IRL Events & One:One Matchmaking:geo:27.336465,-
 82.531012
END:VEVENT
BEGIN:VTIMEZONE
TZID:America/New_York
X-LIC-LOCATION:America/New_York
BEGIN:DAYLIGHT
DTSTART:20260308T030000
TZOFFSETFROM:-0500
TZOFFSETTO:-0400
TZNAME:EDT
END:DAYLIGHT
END:VTIMEZONE
END:VCALENDAR