BEGIN:VCALENDAR
VERSION:2.0
PRODID:-//wp-events-plugin.com//7.2.3.1//EN
BEGIN:VEVENT
UID:562@thespeedmingle.com
DTSTART;TZID=America/New_York:20260615T184500
DTEND;TZID=America/New_York:20260615T210000
DTSTAMP:20260422T203429Z
URL:https://thespeedmingle.com/events/espresso-your-interest-speed-mingle/
SUMMARY:Espresso Your Interest Speed Mingle
DESCRIPTION:Tired of endless\, superficial networking events or disappointi
 ng social searches? Espresso Your Interest offers a refined alternative. T
 his exclusive\, curated Speed Mingle event is specifically designed for th
 e dynamic residents of Palm City\, eliminating small talk and moving strai
 ght to genuine interaction.
ATTACH;FMTTYPE=image/jpeg:https://thespeedmingle.com/wp-content/uploads/20
 26/04/Espresso-Your-Interest-WHT.png
CATEGORIES:Speed Mingle Happenings™
LOCATION:Palm City\, FL Speed Mingle | IRL Events & One:One Matchmaking\, B
 arista Creamery Coffee &amp\; Tea Company | 2285 SW Martin Hwy\, Palm City
 \, Florida\, 34990\, United States
GEO:27.161689;-80.284459
X-APPLE-STRUCTURED-LOCATION;VALUE=URI;X-ADDRESS=Barista Creamery Coffee & T
 ea Company | 2285 SW Martin Hwy\, Palm City\, Florida\, 34990\, United Sta
 tes;X-APPLE-RADIUS=100;X-TITLE=Palm City\, FL Speed Mingle | IRL Events & 
 One:One Matchmaking:geo:27.161689,-80.284459
END:VEVENT
BEGIN:VTIMEZONE
TZID:America/New_York
X-LIC-LOCATION:America/New_York
BEGIN:DAYLIGHT
DTSTART:20260308T030000
TZOFFSETFROM:-0500
TZOFFSETTO:-0400
TZNAME:EDT
END:DAYLIGHT
END:VTIMEZONE
END:VCALENDAR