BEGIN:VCALENDAR
VERSION:2.0
PRODID:-//wp-events-plugin.com//7.2.3.1//EN
BEGIN:VEVENT
UID:545@thespeedmingle.com
DTSTART;TZID=America/Chicago:20260517T143000
DTEND;TZID=America/Chicago:20260517T170000
DTSTAMP:20260419T165833Z
URL:https://thespeedmingle.com/events/cultivate-the-850-speed-mingle-socia
 l/
SUMMARY:Cultivate: The 850 Speed Mingle Social
DESCRIPTION:You are formally invited to an exclusive engagement at the este
 emed Garden & Grain—a lush\, sun-drenched sanctuary designed to foster a
  robust\, interconnected community across the Florida Panhandle. The 850 E
 dition transcends the typical networking function\; it is a meticulously s
 tructured "speed mingling" experience designed for the distinguished profe
 ssionals\, innovative creatives\, and driven entrepreneurs who define our 
 region.
ATTACH;FMTTYPE=image/jpeg:https://thespeedmingle.com/wp-content/uploads/20
 26/04/Cultivate6.jpeg
CATEGORIES:Speed Mingle Happenings™
LOCATION:Garden & Grain\, 50 E Garden St\, Pensacola\, Florida\, 32502\, Un
 ited States
GEO:30.413503;-87.21396
X-APPLE-STRUCTURED-LOCATION;VALUE=URI;X-ADDRESS=50 E Garden St\, Pensacola\
 , Florida\, 32502\, United States;X-APPLE-RADIUS=100;X-TITLE=Garden & Grai
 n:geo:30.413503,-87.21396
END:VEVENT
BEGIN:VTIMEZONE
TZID:America/Chicago
X-LIC-LOCATION:America/Chicago
BEGIN:DAYLIGHT
DTSTART:20260308T030000
TZOFFSETFROM:-0600
TZOFFSETTO:-0500
TZNAME:CDT
END:DAYLIGHT
END:VTIMEZONE
END:VCALENDAR